BEGIN:VCALENDAR
VERSION:2.0
PRODID:-//ChamberMaster//Event Calendar 2.0//EN
METHOD:PUBLISH
X-PUBLISHED-TTL:P3D
REFRESH-INTERVAL:P3D
CALSCALE:GREGORIAN
BEGIN:VEVENT
DTSTART:20220913T003000Z
DTEND:20220913T020000Z
X-MICROSOFT-CDO-ALLDAYEVENT:FALSE
SUMMARY:DBA Networking at Pro VR USA - Virtual Reality
DESCRIPTION:DBA Networking Event at Pro VR USA - Virtual Reality
X-ALT-DESC;FMTTYPE=text/html:DBA Networking Event at Pro VR USA - Virtual Reality
LOCATION:Pro VR USA 905 Crossly Road Palm Springs
UID:e.2876.1556
SEQUENCE:3
DTSTAMP:20260424T221612Z
URL:https://www.desertbusinessassociation.org/events/details/dba-networking-at-pro-vr-usa-virtual-reality-1556
END:VEVENT

END:VCALENDAR
