BEGIN:VCALENDAR
VERSION:2.0
PRODID:-//ChamberMaster//Event Calendar 2.0//EN
METHOD:PUBLISH
X-PUBLISHED-TTL:P3D
REFRESH-INTERVAL:P3D
CALSCALE:GREGORIAN
BEGIN:VEVENT
DTSTART:20230411T003000Z
DTEND:20230411T020000Z
X-MICROSOFT-CDO-ALLDAYEVENT:FALSE
SUMMARY:DBA Networking Event at Norpell Wall2Wall
DESCRIPTION:DBA Networking Event at Norpell Wall2Wall\, Palm Springs
X-ALT-DESC;FMTTYPE=text/html:DBA Networking Event at Norpell Wall2Wall\, Palm Springs
LOCATION:161 S Civic Dr\, Suite 8 Palm Springs\, CA 92262
UID:e.2876.1580
SEQUENCE:3
DTSTAMP:20260424T233349Z
URL:https://www.desertbusinessassociation.org/events/details/dba-networking-event-at-norpell-wall2wall-1580
END:VEVENT

END:VCALENDAR
