BEGIN:VCALENDAR
VERSION:2.0
PRODID:-//ChamberMaster//Event Calendar 2.0//EN
METHOD:PUBLISH
X-PUBLISHED-TTL:P3D
REFRESH-INTERVAL:P3D
CALSCALE:GREGORIAN
BEGIN:VEVENT
DTSTART:20230606T003000Z
DTEND:20230606T020000Z
X-MICROSOFT-CDO-ALLDAYEVENT:FALSE
SUMMARY:DBA Networking Event at Palm Springs Animal Shelter
DESCRIPTION:DBA Networking Event at Palm Springs Animal Shelter
X-ALT-DESC;FMTTYPE=text/html:DBA Networking Event at Palm Springs Animal Shelter
LOCATION:4575 E Mesquite Ave Palm Springs\, CA 92264
UID:e.2876.1583
SEQUENCE:3
DTSTAMP:20260425T155426Z
URL:https://www.desertbusinessassociation.org/events/details/dba-networking-event-at-palm-springs-animal-shelter-1583
END:VEVENT

END:VCALENDAR
