BEGIN:VCALENDAR
VERSION:2.0
PRODID:-//ChamberMaster//Event Calendar 2.0//EN
METHOD:PUBLISH
X-PUBLISHED-TTL:P3D
REFRESH-INTERVAL:P3D
CALSCALE:GREGORIAN
BEGIN:VEVENT
DTSTART:20231003T003000Z
DTEND:20231003T020000Z
X-MICROSOFT-CDO-ALLDAYEVENT:FALSE
SUMMARY:DBA Networking Event at Play Lounge Palm Springs
DESCRIPTION:DBA Networking Event at Play Lounge & Cafe - Palm Springs
X-ALT-DESC;FMTTYPE=text/html:DBA Networking Event at Play Lounge &amp\; Cafe - Palm Springs
LOCATION:2825 E Tahquitz Canyon Way\, Bldg. C Palm Springs\, CA 92262
UID:e.2876.1614
SEQUENCE:3
DTSTAMP:20260425T223432Z
URL:https://www.desertbusinessassociation.org/events/details/dba-networking-event-at-play-lounge-palm-springs-1614
END:VEVENT

END:VCALENDAR
