BEGIN:VCALENDAR
VERSION:2.0
PRODID:-//ChamberMaster//Event Calendar 2.0//EN
METHOD:PUBLISH
X-PUBLISHED-TTL:P3D
REFRESH-INTERVAL:P3D
CALSCALE:GREGORIAN
BEGIN:VEVENT
DTSTART:20240924T003000Z
DTEND:20240924T020000Z
X-MICROSOFT-CDO-ALLDAYEVENT:FALSE
SUMMARY:DBA Networking Event at PS Homeboys
DESCRIPTION:Join PS Homeboys owners Jeremy Taylor and Niels Kosman as they reconfirm their promise "to create a safe space for the LGBTQ community in a beautiful mountain escape" and present an overview of the exciting events happening at the third Pride Under the Pines on October 5th in Idyllwild. \n\n\nVoted Best Furniture Showroom Of the Coachella Valley\, PS Homeboys showcase a carefully curated collection of furniture pieces that embody the timeless elegance and innovative designs of Midcentury and modern styles. From iconic pieces to contemporary interpretations\,  you will find a wide range of options that cater to different aesthetics and preferences.
X-ALT-DESC;FMTTYPE=text/html:&nbsp\;\n<div style="text-align: start\;"><span style="text-align: center\;"><font color="#5e5e5e" face="Source Sans Pro\, arial\, sans-serif" size="3">Join PS Homeboys owners Jeremy Taylor and Niels&nbsp\;Kosman as they reconfirm their promise &quot\;to create a safe space for the LGBTQ community in a beautiful mountain escape&quot\; and present an overview of the exciting events&nbsp\;</font></span><span style="text-align: center\;"><font color="#5e5e5e" face="Source Sans Pro\, arial\, sans-serif" size="3">happening at&nbsp\;the third <strong>Pride Under the Pines</strong>&nbsp\;on October 5th in Idyllwild.&nbsp\;</font></span></div>\n<br />\n<span style="text-align: center\;"><font color="#5e5e5e" face="Source Sans Pro\, arial\, sans-serif" size="3"><span style="caret-color: rgb(94\, 94\, 94)\;">Voted Best Furniture Showroom Of the Coachella Valley\, PS Homeboys showcase a carefully curated collection of furniture pieces that embody the timeless elegance and innovative designs of Midcentury and modern styles. From iconic pieces to contemporary interpretations\, &nbsp\;you will find a wide range of options that cater to different aesthetics and preferences.</span></font></span><br />\n<br />\n<br />\n&nbsp\;
LOCATION:PS Homeboys showroom at 108 S. Indian Canyon Drive\, Palm Springs\, CA\, 92262
UID:e.2876.1645
SEQUENCE:3
DTSTAMP:20260422T144825Z
URL:https://www.desertbusinessassociation.org/events/details/dba-networking-event-at-ps-homeboys-1645
END:VEVENT

END:VCALENDAR
