BEGIN:VCALENDAR
VERSION:2.0
PRODID:-//ChamberMaster//Event Calendar 2.0//EN
METHOD:PUBLISH
X-PUBLISHED-TTL:P3D
REFRESH-INTERVAL:P3D
CALSCALE:GREGORIAN
BEGIN:VEVENT
DTSTART:20221004T001500Z
DTEND:20221004T020000Z
X-MICROSOFT-CDO-ALLDAYEVENT:FALSE
SUMMARY:DBA Networking Mixer
DESCRIPTION:DBA Networking Mixer and Meet-up with SCORE Coachella Valley Mentors
X-ALT-DESC;FMTTYPE=text/html:DBA Networking Mixer and Meet-up with SCORE Coachella Valley Mentors&nbsp\;&nbsp\;&nbsp\;&nbsp\;
LOCATION:Hilton Palm Springs 400 E Tahquitz Canyon Way Palm Springs
UID:e.2876.1558
SEQUENCE:3
DTSTAMP:20260425T000929Z
URL:https://www.desertbusinessassociation.org/events/details/dba-networking-mixer-1558
END:VEVENT

END:VCALENDAR
