BEGIN:VCALENDAR
VERSION:2.0
PRODID:-//ChamberMaster//Event Calendar 2.0//EN
METHOD:PUBLISH
X-PUBLISHED-TTL:P3D
REFRESH-INTERVAL:P3D
CALSCALE:GREGORIAN
BEGIN:VEVENT
DTSTART:20250408T003000Z
DTEND:20250408T020000Z
X-MICROSOFT-CDO-ALLDAYEVENT:FALSE
SUMMARY:DBA Networking Mixer at MICHAEL NORPEL WALL TO WALL\, PALM SPRINGS
DESCRIPTION:Our April 7th Networking Mixer will have us return to Michael Norpell Wall to Wall.
X-ALT-DESC;FMTTYPE=text/html:<p dir="ltr" style="line-height: 1.38\; margin-top: 0pt\; margin-bottom: 0pt\;"><span style="font-size:16px\;"><span style="color: rgb(0\, 0\, 0)\; background-color: transparent\; font-variant-numeric: normal\; font-variant-east-asian: normal\; font-variant-alternates: normal\; vertical-align: baseline\; line-height: 1.2\;">Our April 7th&nbsp\;Networking Mixer will have us return to </span></span><a href="https://www.michaelnorpell.com/" target="_blank"><span class="JdFsz" style="border: 0px\; font-variant-numeric: inherit\; font-variant-east-asian: inherit\; font-variant-alternates: inherit\; font-variant-position: inherit\; font-variant-emoji: inherit\; font-weight: 600\; font-stretch: inherit\; font-size: 16px\; line-height: inherit\; font-optical-sizing: inherit\; font-size-adjust: inherit\; font-kerning: inherit\; font-feature-settings: inherit\; font-variation-settings: inherit\; margin: 0px 8px 0px 0px\; padding: 0px\; vertical-align: baseline\; color: rgb(36\, 36\, 36)\; display: inline\; white-space-collapse: preserve\;" title="DBA - Networking Mixer on April 7th at Michael Norpell Wall To Wall">Michael Norpell Wall to Wall. </span></a><br />\n<br />\n&nbsp\;</p>\n\n<div>&nbsp\;</div>\n
LOCATION:177 S Civic Drive\, Ste 3\, Palm Springs. Palm Springs\, CA 92262
UID:e.2876.1938
SEQUENCE:3
DTSTAMP:20260419T173320Z
URL:https://www.desertbusinessassociation.org/events/details/dba-networking-mixer-at-michael-norpel-wall-to-wall-palm-springs-1938
END:VEVENT

END:VCALENDAR
