BEGIN:VCALENDAR
VERSION:2.0
PRODID:-//ChamberMaster//Event Calendar 2.0//EN
METHOD:PUBLISH
X-PUBLISHED-TTL:P3D
REFRESH-INTERVAL:P3D
CALSCALE:GREGORIAN
BEGIN:VEVENT
DTSTART:20210105T013000Z
DTEND:20210105T030000Z
X-MICROSOFT-CDO-ALLDAYEVENT:FALSE
SUMMARY:DBA Networking Mixer with Small Business Development Center
DESCRIPTION:DBA Virtual Networking Mixer with the CV Small Business Development Center.\n\nJoin us and Lisa Napolitano with the CV SBDC to discuss the upcoming new stimulus package\, and how the SBDC can assist your business.
X-ALT-DESC;FMTTYPE=text/html:DBA Virtual Networking Mixer with the CV Small Business Development Center.<br />\nJoin us and Lisa Napolitano with the CV SBDC to discuss the upcoming new stimulus package\, and how the SBDC can assist your business.&nbsp\;
LOCATION:Via Zoom https://us02web.zoom.us/j/81091385713?pwd=aFFPMSs2TmJTbWs0UndRSHp3blZhdz09 Meeting ID: 810 9138 5713 Passcode: 671352
UID:e.2876.1455
SEQUENCE:3
DTSTAMP:20260423T135313Z
URL:https://www.desertbusinessassociation.org/events/details/dba-networking-mixer-with-small-business-development-center-1455
END:VEVENT

END:VCALENDAR
