BEGIN:VCALENDAR
VERSION:2.0
PRODID:-//ChamberMaster//Event Calendar 2.0//EN
METHOD:PUBLISH
X-PUBLISHED-TTL:P3D
REFRESH-INTERVAL:P3D
CALSCALE:GREGORIAN
BEGIN:VEVENT
DTSTART:20210223T013000Z
DTEND:20210223T024500Z
X-MICROSOFT-CDO-ALLDAYEVENT:FALSE
SUMMARY:DBA VIRTUAL Networking with Dr. Jill Gover\, DAP Health
DESCRIPTION:Join us as we talk about Mental Health and the effects of COVID-19 after this past year with Dr Jill Gover from DAP Health.
X-ALT-DESC;FMTTYPE=text/html:<span style="font-size:12px\;"><span style="color:black\;"><span style="font-family:arial\;">Join us as we talk about Mental Health and the effects of COVID-19 after this past year with Dr Jill Gover from DAP Health.&nbsp\;</span></span></span>
LOCATION:via Zoom
UID:e.2876.1461
SEQUENCE:3
DTSTAMP:20260423T152611Z
URL:https://www.desertbusinessassociation.org/events/details/dba-virtual-networking-with-dr-jill-gover-dap-health-1461
END:VEVENT

END:VCALENDAR
