BEGIN:VCALENDAR
VERSION:2.0
PRODID:-//ChamberMaster//Event Calendar 2.0//EN
METHOD:PUBLISH
X-PUBLISHED-TTL:P3D
REFRESH-INTERVAL:P3D
CALSCALE:GREGORIAN
BEGIN:VEVENT
DTSTART:20210202T013000Z
DTEND:20210202T024500Z
X-MICROSOFT-CDO-ALLDAYEVENT:FALSE
SUMMARY:DBA VIRTUAL Networking with Mel Mason\, the Clutter Expert
DESCRIPTION:Join us as we talk Clutter with Mel Mason\, the Clutter Expert\, who helps us with how to get our homes\, our offices and our lives better organized for 2021.
X-ALT-DESC;FMTTYPE=text/html:<span style="font-size:12px\;"><span style="color:black\;"><span style="font-family:arial\;">Join us as we talk Clutter with Mel Mason\, the Clutter Expert\, who helps us with how to get our homes\, our offices and our lives </span></span><span style="color:black\;"><span style="font-family:arial\;">better organized for 2021.</span></span></span>
LOCATION:via Zoom
UID:e.2876.1459
SEQUENCE:3
DTSTAMP:20260423T152620Z
URL:https://www.desertbusinessassociation.org/events/details/dba-virtual-networking-with-mel-mason-the-clutter-expert-1459
END:VEVENT

END:VCALENDAR
