BEGIN:VCALENDAR
VERSION:2.0
PRODID:-//ChamberMaster//Event Calendar 2.0//EN
METHOD:PUBLISH
X-PUBLISHED-TTL:P3D
REFRESH-INTERVAL:P3D
CALSCALE:GREGORIAN
BEGIN:VEVENT
DTSTART:20250508T153000Z
DTEND:20250508T173000Z
X-MICROSOFT-CDO-ALLDAYEVENT:FALSE
SUMMARY:Harvey Milk Diversity Breakfast
DESCRIPTION:Join the DBA as we honor the legacy of an extraordinary leader whose courageous work to end discrimination against the lesbian\, gay\, bisexual\, and transgender community in the 1970s set the stage for many of the civil rights advances we see today that benefit all Californians. Funds raised support Coachella Valley LGBTQ youth programs.\n\n\n\nThis years Leadership Award Goes to Senate President pro Tempore Emeritus Toni Atkins. The first woman and the first LGBTQ+ person to lead both chambers of the state senate. \n\n\n\nThis year's Lifetime Achievement Award goes to Holly Near\, who for 50 years has celebrated the human spirit through music and activism.
X-ALT-DESC;FMTTYPE=text/html:<span style="font-family:arial\;"><span style="font-size:16px\;">Join the DBA as we honor&nbsp\;<!--StartFragment--><span data-olk-copy-source="MessageBody" style="color: black\;">the legacy of an extraordinary leader whose courageous work to end discrimination against the lesbian\, gay\, bisexual\, and transgender community in the 1970s set the stage for many of the civil rights advances we see today that benefit all Californians. Funds raised support Coachella Valley LGBTQ youth programs.</span><br>\n<br>\nThis years&nbsp\;<strong>Leadership Award&nbsp\;</strong>Goes to&nbsp\;Senate President pro Tempore Emeritus <a href="https://archive.senate.ca.gov/member-archives/2023-24/toni-atkins">Toni Atkins</a>. The first woman and the first LGBTQ+ person to lead both chambers of the state senate.&nbsp\;<br>\n<br>\nThis year's <strong>Lifetime Achievement Award&nbsp\;</strong>goes to <a href="https://hollynear.com/">Holly Near\,</a>&nbsp\;who for 50 years has celebrated the human spirit through music and activism.&nbsp\;</span></span>
LOCATION:Palm Springs Convention Center
UID:e.2876.1940
SEQUENCE:3
DTSTAMP:20260419T124148Z
URL:https://www.desertbusinessassociation.org/events/details/harvey-milk-diversity-breakfast-05-08-2025-1940
END:VEVENT

END:VCALENDAR
