BEGIN:VCALENDAR
VERSION:2.0
PRODID:-//ChamberMaster//Event Calendar 2.0//EN
METHOD:PUBLISH
X-PUBLISHED-TTL:P3D
REFRESH-INTERVAL:P3D
CALSCALE:GREGORIAN
BEGIN:VEVENT
DTSTART:20221003T230000Z
DTEND:20221004T001500Z
X-MICROSOFT-CDO-ALLDAYEVENT:FALSE
SUMMARY:LGBTQ+ Community Survey Results Presentation
DESCRIPTION:In partnership with SCORE Coachella Valley\, KGAY Radio\, and the Desert Business Association\, join us for the results of the CMI LGBTQ+ Community Survey.  \n\nThe event is free but please register via EventBrite:\n\nwww.tinyurl.com/4c4txzsm\n\nKGAY/Gay Desert Guide's Brad Fuhr will share insights about local and national consumer trends covering locals and visitors alike.\n\n\n\nAll guests are invited to join the DBA Networking Mixer immediately following at the same location\, along with learning about the services that SCORE Coachella Valley provides to small\, diverse\, and emerging businesses.
X-ALT-DESC;FMTTYPE=text/html:<div class="m8h3af8h l7ghb35v kjdc1dyq kmwttqpk gh25dzvf" style="overflow-wrap: break-word\; margin: 0px\; font-family: system-ui\, -apple-system\, &quot\;system-ui&quot\;\, &quot\;.SFNSText-Regular&quot\;\, sans-serif\; color: rgb(5\, 5\, 5)\; font-size: 15px\;"><span style="font-family:arial\;">In partnership with SCORE Coachella Valley\, KGAY Radio\, and the Desert Business Association\, join us for the results of the CMI LGBTQ+ Community Survey.&nbsp\;&nbsp\;</span></div>\n\n<div class="l7ghb35v kjdc1dyq kmwttqpk gh25dzvf jikcssrz" style="overflow-wrap: break-word\; margin: 0.5em 0px 0px\; font-family: system-ui\, -apple-system\, &quot\;system-ui&quot\;\, &quot\;.SFNSText-Regular&quot\;\, sans-serif\; color: rgb(5\, 5\, 5)\; font-size: 15px\;"><span style="font-family:arial\;">The event is free but please register via EventBrite:<br />\n<a class="qi72231t nu7423ey n3hqoq4p r86q59rh b3qcqh3k fq87ekyn bdao358l fsf7x5fv rse6dlih s5oniofx m8h3af8h l7ghb35v kjdc1dyq kmwttqpk srn514ro oxkhqvkx rl78xhln nch0832m cr00lzj9 rn8ck1ys s3jn8y49 icdlwmnq cxfqmxzd ezidihy3" href="https://www.tinyurl.com/4c4txzsm?fbclid=IwAR1tKjfoexzmBU3kfjLfYmNEMSKNRaBhRDp4O9-vM96cV4ucKzBG5i6oZ1c" rel="nofollow noopener" role="link" style="color: var(--blue-link)\; cursor: pointer\; text-decoration-line: none\; outline: none\; list-style: none\; border-width: 0px\; border-style: initial\; border-color: initial\; box-sizing: border-box\; text-align: inherit\; margin: 0px\; padding: 0px\; background-color: transparent\; -webkit-tap-highlight-color: transparent\; display: inline\; touch-action: manipulation\; font-family: inherit\;" tabindex="0" target="_blank">www.tinyurl.com/4c4txzsm</a></span></div>\n\n<div class="l7ghb35v kjdc1dyq kmwttqpk gh25dzvf jikcssrz" style="overflow-wrap: break-word\; margin: 0.5em 0px 0px\; font-family: system-ui\, -apple-system\, &quot\;system-ui&quot\;\, &quot\;.SFNSText-Regular&quot\;\, sans-serif\; color: rgb(5\, 5\, 5)\; font-size: 15px\;"><span style="font-family:arial\;">KGAY/Gay Desert Guide&rsquo\;s Brad Fuhr will share insights about local and national consumer trends covering locals and visitors alike.<br />\n<br />\nAll guests are invited to join the DBA Networking Mixer immediately following at the same location\, along with learning about the services that SCORE Coachella Valley provides to small\, diverse\, and emerging businesses. </span><br />\n&nbsp\;</div>\n
LOCATION:HIlton Palm Springs 400 E Tahquitz Canyon Way\, Palm Springs\, CA 92262
UID:e.2876.1552
SEQUENCE:3
DTSTAMP:20260425T020655Z
URL:https://www.desertbusinessassociation.org/events/details/lgbtq-community-survey-results-presentation-1552
END:VEVENT

END:VCALENDAR
