BEGIN:VCALENDAR
VERSION:2.0
PRODID:-//ChamberMaster//Event Calendar 2.0//EN
METHOD:PUBLISH
X-PUBLISHED-TTL:P3D
REFRESH-INTERVAL:P3D
CALSCALE:GREGORIAN
BEGIN:VEVENT
DTSTART:20230518T003000Z
DTEND:20230518T023000Z
X-MICROSOFT-CDO-ALLDAYEVENT:FALSE
SUMMARY:Multi-Chamber Mixer at PS Air Museum
DESCRIPTION:Multi-Chamber Mixer at Palm Springs Air Museum
X-ALT-DESC;FMTTYPE=text/html:Multi-Chamber Mixer at Palm Springs Air Museum&nbsp\;&nbsp\;&nbsp\;&nbsp\;
LOCATION:Palm Springs Air Museum 745 N Gene Autry Trail Palm Springs\, CA
UID:e.2876.1582
SEQUENCE:3
DTSTAMP:20260424T214238Z
URL:https://www.desertbusinessassociation.org/events/details/multi-chamber-mixer-at-ps-air-museum-1582
END:VEVENT

END:VCALENDAR
