BEGIN:VCALENDAR
VERSION:2.0
PRODID:-//ChamberMaster//Event Calendar 2.0//EN
METHOD:PUBLISH
X-PUBLISHED-TTL:P3D
REFRESH-INTERVAL:P3D
CALSCALE:GREGORIAN
BEGIN:VEVENT
DTSTART:20210119T013000Z
DTEND:20210119T030000Z
X-MICROSOFT-CDO-ALLDAYEVENT:FALSE
SUMMARY:Recognizing our Valley's Diverse Businesses
DESCRIPTION:We invite ALL of our Valley's Small and Diverse Businesses to join us and share information about their business\, products and services. \n\nYou do not have to be a member of DBA or any other group to participate in this Free event. PLEASE Feel free to share and invite other businesses that you know.\n\nThis is a day that we celebrate the birth of Dr Martin Luther King\, Jr. (his birthday is actually January 15)\, and in his honor\, we bring all businesses together to share their offerings to our communities.\n\nWe will aim to have our general information and sharing\, too.\n\nGrab your beverage and learn more about our local businesses.
X-ALT-DESC;FMTTYPE=text/html:<div class="kvgmc6g5 cxmmr5t8 oygrvhab hcukyx3x c1et5uql" style="overflow-wrap: break-word\; margin: 0px\; font-family: system-ui\, -apple-system\, system-ui\, &quot\;.SFNSText-Regular&quot\;\, sans-serif\; color: rgb(5\, 5\, 5)\; font-size: 15px\;"><span style="font-size:14px\;">We invite ALL of our Valley&#39\;s Small and Diverse Businesses to join us and share information about their business\, products and services.&nbsp\;<br />\nYou do not have to be a member of DBA or any other group to participate in this Free event. PLEASE Feel free to share and invite other businesses that you know.<br />\nThis is a day that we celebrate the birth of Dr Martin Luther King\, Jr. (his birthday is actually January 15)\, and in his honor\, we bring all businesses together to share their offerings to our communities.<br />\nWe will aim to have our general information and sharing\, too.<br />\nGrab your beverage and learn more about our local businesses.</span></div>\n
LOCATION:Via Zoom https://us02web.zoom.us/j/81091385713?pwd=aFFPMSs2TmJTbWs0UndRSHp3blZhdz09 Meeting ID: 810 9138 5713 Passcode: 671352
UID:e.2876.1458
SEQUENCE:3
DTSTAMP:20260423T152345Z
URL:https://www.desertbusinessassociation.org/events/details/recognizing-our-valley-s-diverse-businesses-1458
END:VEVENT

END:VCALENDAR
